BEGIN:VCALENDAR
VERSION:2.0
PRODID:-//Upper Blue Mountains Probus Club - ECPv5.1.2.1//NONSGML v1.0//EN
CALSCALE:GREGORIAN
METHOD:PUBLISH
X-WR-CALNAME:Upper Blue Mountains Probus Club
X-ORIGINAL-URL:http://ubmprobus.org.au
X-WR-CALDESC:Events for Upper Blue Mountains Probus Club
BEGIN:VTIMEZONE
TZID:UTC
BEGIN:STANDARD
TZOFFSETFROM:+0000
TZOFFSETTO:+0000
TZNAME:UTC
DTSTART:20210101T000000
END:STANDARD
END:VTIMEZONE
BEGIN:VEVENT
DTSTART;TZID=UTC:20210205T110000
DTEND;TZID=UTC:20210205T133000
DTSTAMP:20210224T100525
CREATED:20210203T072304Z
LAST-MODIFIED:20210203T230322Z
UID:21217-1612522800-1612531800@ubmprobus.org.au
SUMMARY:Club Meeting
DESCRIPTION:This page is only available to Members - If you are a member please login or contact the Webmaster................ 
URL:http://ubmprobus.org.au/event/club-meeting/
LOCATION:Katoomba RSL
ATTACH;FMTTYPE=image/jpeg:http://ubmprobus.org.au/wp-content/uploads/2020/01/Katoomba-RSL-Logo-Wide.jpg
END:VEVENT
BEGIN:VEVENT
DTSTART;TZID=UTC:20210211T110000
DTEND;TZID=UTC:20210211T140000
DTSTAMP:20210224T100525
CREATED:20210203T074035Z
LAST-MODIFIED:20210203T230308Z
UID:21222-1613041200-1613052000@ubmprobus.org.au
SUMMARY:Bowls
DESCRIPTION:This page is only available to Members - If you are a member please login or contact the Webmaster................ 
URL:http://ubmprobus.org.au/event/bowls/
LOCATION:NSW\, Australia
ATTACH;FMTTYPE=image/jpeg:http://ubmprobus.org.au/wp-content/uploads/2019/02/Group-Image-Bowls-300x180.jpg
END:VEVENT
BEGIN:VEVENT
DTSTART;TZID=UTC:20210215T100000
DTEND;TZID=UTC:20210215T120000
DTSTAMP:20210224T100525
CREATED:20210203T073326Z
LAST-MODIFIED:20210203T230255Z
UID:21219-1613383200-1613390400@ubmprobus.org.au
SUMMARY:Music for Pleasure
DESCRIPTION:This page is only available to Members - If you are a member please login or contact the Webmaster................ 
URL:http://ubmprobus.org.au/event/music-for-pleasure/
LOCATION:NSW\, Australia
ATTACH;FMTTYPE=image/jpeg:http://ubmprobus.org.au/wp-content/uploads/2020/06/Group-Image-Music-300x180-1.jpg
END:VEVENT
BEGIN:VEVENT
DTSTART;TZID=UTC:20210217T100000
DTEND;TZID=UTC:20210217T100000
DTSTAMP:20210224T100525
CREATED:20210203T074726Z
LAST-MODIFIED:20210203T230241Z
UID:21225-1613556000-1613556000@ubmprobus.org.au
SUMMARY:Traveller’s Tales
DESCRIPTION:This page is only available to Members - If you are a member please login or contact the Webmaster................ 
URL:http://ubmprobus.org.au/event/travellers-tales/
LOCATION:NSW\, Australia
ATTACH;FMTTYPE=image/jpeg:http://ubmprobus.org.au/wp-content/uploads/2020/06/Group-Image-Travellers-300x180-1.jpg
END:VEVENT
BEGIN:VEVENT
DTSTART;TZID=UTC:20210219T100000
DTEND;TZID=UTC:20210219T233000
DTSTAMP:20210224T100525
CREATED:20210203T223847Z
LAST-MODIFIED:20210203T225402Z
UID:21241-1613728800-1613777400@ubmprobus.org.au
SUMMARY:Coffee Club - Gingerbread House
DESCRIPTION:This page is only available to Members - If you are a member please login or contact the Webmaster................ 
URL:http://ubmprobus.org.au/event/coffee-club-gingerbread-house/
LOCATION:NSW\, Australia
ATTACH;FMTTYPE=image/jpeg:http://ubmprobus.org.au/wp-content/uploads/2021/02/Gingerbread-House.jpg
END:VEVENT
BEGIN:VEVENT
DTSTART;VALUE=DATE:20210223
DTEND;VALUE=DATE:20210224
DTSTAMP:20210224T100525
CREATED:20210203T075218Z
LAST-MODIFIED:20210203T225711Z
UID:21229-1614038400-1614124799@ubmprobus.org.au
SUMMARY:Photography Group
DESCRIPTION:This page is only available to Members - If you are a member please login or contact the Webmaster................ 
URL:http://ubmprobus.org.au/event/photography-group-3/
LOCATION:NSW\, Australia
ATTACH;FMTTYPE=image/jpeg:http://ubmprobus.org.au/wp-content/uploads/2020/06/Group-Image-Photgraphy-300x180-1.jpg
END:VEVENT
BEGIN:VEVENT
DTSTART;TZID=UTC:20210225T110000
DTEND;TZID=UTC:20210225T130000
DTSTAMP:20210224T100525
CREATED:20210203T224955Z
LAST-MODIFIED:20210203T225321Z
UID:21244-1614250800-1614258000@ubmprobus.org.au
SUMMARY:February Day Outing - Mt Vic Flicks
DESCRIPTION:This page is only available to Members - If you are a member please login or contact the Webmaster................ 
URL:http://ubmprobus.org.au/event/february-day-outin-mt-vic-flicks/
LOCATION:NSW\, Australia
ATTACH;FMTTYPE=image/jpeg:http://ubmprobus.org.au/wp-content/uploads/2021/02/Days_of_the_Bagnold_Summer_film_poster.jpg
END:VEVENT
END:VCALENDAR